BEGIN:VCALENDAR
VERSION:2.0
PRODID:-//Sustainable Tech Partner for IT Service Providers - ECPv6.15.17.1//NONSGML v1.0//EN
CALSCALE:GREGORIAN
METHOD:PUBLISH
X-WR-CALNAME:Sustainable Tech Partner for IT Service Providers
X-ORIGINAL-URL:https://sustainabletechpartner.com
X-WR-CALDESC:Events for Sustainable Tech Partner for IT Service Providers
REFRESH-INTERVAL;VALUE=DURATION:PT1H
X-Robots-Tag:noindex
X-PUBLISHED-TTL:PT1H
BEGIN:VTIMEZONE
TZID:America/New_York
BEGIN:DAYLIGHT
TZOFFSETFROM:-0500
TZOFFSETTO:-0400
TZNAME:EDT
DTSTART:20250309T070000
END:DAYLIGHT
BEGIN:STANDARD
TZOFFSETFROM:-0400
TZOFFSETTO:-0500
TZNAME:EST
DTSTART:20251102T060000
END:STANDARD
BEGIN:DAYLIGHT
TZOFFSETFROM:-0500
TZOFFSETTO:-0400
TZNAME:EDT
DTSTART:20260308T070000
END:DAYLIGHT
BEGIN:STANDARD
TZOFFSETFROM:-0400
TZOFFSETTO:-0500
TZNAME:EST
DTSTART:20261101T060000
END:STANDARD
BEGIN:DAYLIGHT
TZOFFSETFROM:-0500
TZOFFSETTO:-0400
TZNAME:EDT
DTSTART:20270314T070000
END:DAYLIGHT
BEGIN:STANDARD
TZOFFSETFROM:-0400
TZOFFSETTO:-0500
TZNAME:EST
DTSTART:20271107T060000
END:STANDARD
END:VTIMEZONE
BEGIN:VEVENT
DTSTART;VALUE=DATE:20260326
DTEND;VALUE=DATE:20260328
DTSTAMP:20260421T113140
CREATED:20260205T111251Z
LAST-MODIFIED:20260205T111251Z
UID:16454-1774483200-1774655999@sustainabletechpartner.com
SUMMARY:EnergyTech 2026 Conference Dates and City Location
DESCRIPTION:EnergyTech 2026\, an International Conference on Renewable Energy\, Resources and Sustainable Technologies\, is scheduled for March 26-27 at the Hotel Mystays Ochanomizu Conference Center in Tokyo\, Japan. \nThe conference content will focus on energy efficiency\, waste reduction and industrial decarbonization. Moreover\, key themes will include Artificial Intelligence (AI) and green infrastructure
URL:https://sustainabletechpartner.com/event/energytech-2026-conference-dates-and-city-location/
LOCATION:Hotel Mystays Ochanomizu Conference Center\, Tokyo\, Japan
CATEGORIES:Sustainability Conference,Sustainable Energy
ATTACH;FMTTYPE=image/jpeg:https://sustainabletechpartner.com/wp-content/uploads/2023/08/stage-conference-pixabay-movie-theater-4609877_1280.jpg
END:VEVENT
END:VCALENDAR