BEGIN:VCALENDAR
VERSION:2.0
PRODID:-//Sustainable Tech Partner for IT Service Providers - ECPv6.15.17.1//NONSGML v1.0//EN
CALSCALE:GREGORIAN
METHOD:PUBLISH
X-ORIGINAL-URL:https://sustainabletechpartner.com
X-WR-CALDESC:Events for Sustainable Tech Partner for IT Service Providers
REFRESH-INTERVAL;VALUE=DURATION:PT1H
X-Robots-Tag:noindex
X-PUBLISHED-TTL:PT1H
BEGIN:VTIMEZONE
TZID:America/New_York
BEGIN:DAYLIGHT
TZOFFSETFROM:-0500
TZOFFSETTO:-0400
TZNAME:EDT
DTSTART:20250309T070000
END:DAYLIGHT
BEGIN:STANDARD
TZOFFSETFROM:-0400
TZOFFSETTO:-0500
TZNAME:EST
DTSTART:20251102T060000
END:STANDARD
BEGIN:DAYLIGHT
TZOFFSETFROM:-0500
TZOFFSETTO:-0400
TZNAME:EDT
DTSTART:20260308T070000
END:DAYLIGHT
BEGIN:STANDARD
TZOFFSETFROM:-0400
TZOFFSETTO:-0500
TZNAME:EST
DTSTART:20261101T060000
END:STANDARD
BEGIN:DAYLIGHT
TZOFFSETFROM:-0500
TZOFFSETTO:-0400
TZNAME:EDT
DTSTART:20270314T070000
END:DAYLIGHT
BEGIN:STANDARD
TZOFFSETFROM:-0400
TZOFFSETTO:-0500
TZNAME:EST
DTSTART:20271107T060000
END:STANDARD
END:VTIMEZONE
BEGIN:VEVENT
DTSTART;VALUE=DATE:20260308
DTEND;VALUE=DATE:20260313
DTSTAMP:20260423T095046
CREATED:20251215T135737Z
LAST-MODIFIED:20251215T135752Z
UID:16191-1772928000-1773359999@sustainabletechpartner.com
SUMMARY:International Conference on Green and Sustainable Development (ICGSD) 2026
DESCRIPTION:International Conference on Green and Sustainable Development 2026 (ICGSD) is scheduled for March 8-12 at the Protea Hotel in Stellenbosch\, Cape Town\, South Africa. \nThe conference strives to "reimagine sustainability through the integration of indigenous knowledge systems\, emerging technologies\, and afrocentric innovation" while delivering a "platform for cross-sector collaboration and actionable dialogue\," according to organizers.
URL:https://sustainabletechpartner.com/event/international-conference-on-green-and-sustainable-development-icgsd-2026/
LOCATION:Protea Hotel Stellenbosch Cape Town
CATEGORIES:Sustainability Conference
ATTACH;FMTTYPE=image/jpeg:https://sustainabletechpartner.com/wp-content/uploads/2023/08/stage-conference-pixabay-movie-theater-4609877_1280.jpg
END:VEVENT
END:VCALENDAR