BEGIN:VCALENDAR
VERSION:2.0
PRODID:-//Sustainable Tech Partner for IT Service Providers - ECPv6.15.17.1//NONSGML v1.0//EN
CALSCALE:GREGORIAN
METHOD:PUBLISH
X-ORIGINAL-URL:https://sustainabletechpartner.com
X-WR-CALDESC:Events for Sustainable Tech Partner for IT Service Providers
REFRESH-INTERVAL;VALUE=DURATION:PT1H
X-Robots-Tag:noindex
X-PUBLISHED-TTL:PT1H
BEGIN:VTIMEZONE
TZID:America/New_York
BEGIN:DAYLIGHT
TZOFFSETFROM:-0500
TZOFFSETTO:-0400
TZNAME:EDT
DTSTART:20220313T070000
END:DAYLIGHT
BEGIN:STANDARD
TZOFFSETFROM:-0400
TZOFFSETTO:-0500
TZNAME:EST
DTSTART:20221106T060000
END:STANDARD
BEGIN:DAYLIGHT
TZOFFSETFROM:-0500
TZOFFSETTO:-0400
TZNAME:EDT
DTSTART:20230312T070000
END:DAYLIGHT
BEGIN:STANDARD
TZOFFSETFROM:-0400
TZOFFSETTO:-0500
TZNAME:EST
DTSTART:20231105T060000
END:STANDARD
BEGIN:DAYLIGHT
TZOFFSETFROM:-0500
TZOFFSETTO:-0400
TZNAME:EDT
DTSTART:20240310T070000
END:DAYLIGHT
BEGIN:STANDARD
TZOFFSETFROM:-0400
TZOFFSETTO:-0500
TZNAME:EST
DTSTART:20241103T060000
END:STANDARD
END:VTIMEZONE
BEGIN:VEVENT
DTSTART;VALUE=DATE:20231106
DTEND;VALUE=DATE:20231110
DTSTAMP:20260420T062047
CREATED:20231004T202831Z
LAST-MODIFIED:20231004T202831Z
UID:4270-1699228800-1699574399@sustainabletechpartner.com
SUMMARY:Cisco Partner Summit 2023
DESCRIPTION:Cisco Partner Summit 2023 is scheduled for November 6-9 in Miami\, Florida. The conference will include a sustainability session that helps partners to: \n\ndeliver circular asset management solutions;\nreduce energy consumption;\nactivate energy management solutions; and\nprofit by helping the environment as well as end-customers with their sustainability strategies.
URL:https://sustainabletechpartner.com/event/cisco-partner-summit-2023/
LOCATION:Miami Beach Convention Center
CATEGORIES:Sustainable IT Conference
ATTACH;FMTTYPE=image/jpeg:https://sustainabletechpartner.com/wp-content/uploads/2023/10/Cisco-Systems.jpeg
END:VEVENT
BEGIN:VEVENT
DTSTART;VALUE=DATE:20231107
DTEND;VALUE=DATE:20231110
DTSTAMP:20260420T062047
CREATED:20231010T123016Z
LAST-MODIFIED:20231010T123016Z
UID:4340-1699315200-1699574399@sustainabletechpartner.com
SUMMARY:Smart City Expo World Congress 2023: #SCEWC23
DESCRIPTION:Smart City Expo World Congress 2023 is scheduled for November 7-9 in Barcelona\, Spain. The conference will showcase smart solutions for "creating safer\, greener\, and more efficient urban spaces\," according to the event organizers. \n 
URL:https://sustainabletechpartner.com/event/smart-city-expo-world-congress-2023-scewc23/
CATEGORIES:Sustainability Conference
ATTACH;FMTTYPE=image/jpeg:https://sustainabletechpartner.com/wp-content/uploads/2023/09/spain-barcelona-pixabay-3226639_1280.jpg
END:VEVENT
END:VCALENDAR